BEGIN:VCALENDAR
VERSION:2.0
PRODID:-//Volle Evangelie Gemeente Mortsel - ECPv6.15.20//NONSGML v1.0//EN
CALSCALE:GREGORIAN
METHOD:PUBLISH
X-WR-CALNAME:Volle Evangelie Gemeente Mortsel
X-ORIGINAL-URL:https://volle-evangelie-mortsel.be
X-WR-CALDESC:Evenementen voor Volle Evangelie Gemeente Mortsel
REFRESH-INTERVAL;VALUE=DURATION:PT1H
X-Robots-Tag:noindex
X-PUBLISHED-TTL:PT1H
BEGIN:VTIMEZONE
TZID:Europe/Brussels
BEGIN:DAYLIGHT
TZOFFSETFROM:+0100
TZOFFSETTO:+0200
TZNAME:CEST
DTSTART:20240331T010000
END:DAYLIGHT
BEGIN:STANDARD
TZOFFSETFROM:+0200
TZOFFSETTO:+0100
TZNAME:CET
DTSTART:20241027T010000
END:STANDARD
BEGIN:DAYLIGHT
TZOFFSETFROM:+0100
TZOFFSETTO:+0200
TZNAME:CEST
DTSTART:20250330T010000
END:DAYLIGHT
BEGIN:STANDARD
TZOFFSETFROM:+0200
TZOFFSETTO:+0100
TZNAME:CET
DTSTART:20251026T010000
END:STANDARD
BEGIN:DAYLIGHT
TZOFFSETFROM:+0100
TZOFFSETTO:+0200
TZNAME:CEST
DTSTART:20260329T010000
END:DAYLIGHT
BEGIN:STANDARD
TZOFFSETFROM:+0200
TZOFFSETTO:+0100
TZNAME:CET
DTSTART:20261025T010000
END:STANDARD
END:VTIMEZONE
BEGIN:VTIMEZONE
TZID:Europe/Paris
BEGIN:DAYLIGHT
TZOFFSETFROM:+0100
TZOFFSETTO:+0200
TZNAME:CEST
DTSTART:20240331T010000
END:DAYLIGHT
BEGIN:STANDARD
TZOFFSETFROM:+0200
TZOFFSETTO:+0100
TZNAME:CET
DTSTART:20241027T010000
END:STANDARD
BEGIN:DAYLIGHT
TZOFFSETFROM:+0100
TZOFFSETTO:+0200
TZNAME:CEST
DTSTART:20250330T010000
END:DAYLIGHT
BEGIN:STANDARD
TZOFFSETFROM:+0200
TZOFFSETTO:+0100
TZNAME:CET
DTSTART:20251026T010000
END:STANDARD
BEGIN:DAYLIGHT
TZOFFSETFROM:+0100
TZOFFSETTO:+0200
TZNAME:CEST
DTSTART:20260329T010000
END:DAYLIGHT
BEGIN:STANDARD
TZOFFSETFROM:+0200
TZOFFSETTO:+0100
TZNAME:CET
DTSTART:20261025T010000
END:STANDARD
END:VTIMEZONE
BEGIN:VTIMEZONE
TZID:UTC
BEGIN:STANDARD
TZOFFSETFROM:+0000
TZOFFSETTO:+0000
TZNAME:UTC
DTSTART:20240101T000000
END:STANDARD
END:VTIMEZONE
BEGIN:VEVENT
DTSTART;TZID=Europe/Brussels:20250525T113000
DTEND;TZID=Europe/Brussels:20250525T140000
DTSTAMP:20260421T053902
CREATED:20250419T172303Z
LAST-MODIFIED:20250419T172326Z
UID:638-1748172600-1748181600@volle-evangelie-mortsel.be
SUMMARY:Bijzondere AV VZW
DESCRIPTION:Gemeente vegadering en goedkeuring vernieuwde statuten. \nAansluitend op de dienst
URL:https://volle-evangelie-mortsel.be/event/bijzondere-av-vzw/
LOCATION:VEG\, Eggestraat 27\, Mortsel\, Antwerpen\, 2640\, Belgium
END:VEVENT
BEGIN:VEVENT
DTSTART;TZID=Europe/Paris:20250518T120000
DTEND;TZID=Europe/Paris:20250518T140000
DTSTAMP:20260421T053902
CREATED:20250417T160107Z
LAST-MODIFIED:20250419T064906Z
UID:535-1747569600-1747576800@volle-evangelie-mortsel.be
SUMMARY:Spaghetti voor VVP Zending
DESCRIPTION:In het kader van de VVP MMM Actie willen we graag een extra duwtje geven aan de zending. \nNa de samenkomst kan je genieten van een heerlijke spaghetti.\nMeenemen kan ook. \nVolwassen portie = € 15.00\nKinder portie = € 12.00 \nDe opbrengst gaat naar de VVP MMM Actie.\nDe totale inkomsten van de MMM actie wordt gelijk verdeeld over alle VVP zendelingen. \nDit zijn o.a. de mensen die vanuit onze gemeente uitgegaan zijn: \n\nRuth & Robert Kinderman – Hennebert\nLiesje & Roland Vinkestijn – Stalmans\nSigrid Bergers\n\nDoor in te schrijven\, zorg je dat we een goede inschatting van de hoeveelheid kunnen maken. \nInschrijving Spaghetti voor VVP zending 18 meiSchakel JavaScript in je browser in om dit formulier in te vullen.Schakel JavaScript in je browser in om dit formulier in te vullen.Naam *VoornaamAchternaamEmailTer plaatse eten *JaNeen\, meenemenHoeveel volwassene porties (€ 15.00 /pp) *1 persoon2 personen3 personen4 personen5 personen		\n			Hoeveel porties Opmerkingen\n			\n		\n		Hoeveel kinder (<12 jaar) porties ( € 12.00 /pp)Geen kinderporties1 kind2 kinderen3 kinderen4 kinderen5 kinderenOpmerkingen / sugestiesVerzenden
URL:https://volle-evangelie-mortsel.be/event/spaghetti-voor-vvp-zending/
LOCATION:VEG\, Eggestraat 27\, Mortsel\, Antwerpen\, 2640\, Belgium
ORGANIZER;CN="VEG Mortsel":MAILTO:info@volle-evangelie-mortsel.be
END:VEVENT
BEGIN:VEVENT
DTSTART;TZID=UTC:20250501T100000
DTEND;TZID=UTC:20250501T200000
DTSTAMP:20260421T053902
CREATED:20250419T072551Z
LAST-MODIFIED:20250419T073422Z
UID:567-1746093600-1746129600@volle-evangelie-mortsel.be
SUMMARY:Bijbeldag
DESCRIPTION:Zoals elk jaar zetten we op 1 mei de Bijbel centraal op een fijne\, toegankelijke manier.\nDit jaar hebben we afspraak op een nieuwe locatie: GC Den Boomgaard in Ranst. \nFrank Ernst en Ilja Visee nemen ons mee naar Gods Heiligheid. \n‘s avonds is er een EJV Praiseavond met Lifeline collective. \n \nAlle info in de Bijbeldag 2025 – flyer
URL:https://volle-evangelie-mortsel.be/event/bijbeldag/
LOCATION:Den Boomgaard\, Antwerpsesteenweg 43\, Ranst\, 2520\, Belgium
END:VEVENT
END:VCALENDAR