BEGIN:VCALENDAR
VERSION:2.0
PRODID:-//Volle Evangelie Gemeente Mortsel - ECPv6.15.20//NONSGML v1.0//EN
CALSCALE:GREGORIAN
METHOD:PUBLISH
X-WR-CALNAME:Volle Evangelie Gemeente Mortsel
X-ORIGINAL-URL:https://volle-evangelie-mortsel.be
X-WR-CALDESC:Evenementen voor Volle Evangelie Gemeente Mortsel
REFRESH-INTERVAL;VALUE=DURATION:PT1H
X-Robots-Tag:noindex
X-PUBLISHED-TTL:PT1H
BEGIN:VTIMEZONE
TZID:Europe/Brussels
BEGIN:DAYLIGHT
TZOFFSETFROM:+0100
TZOFFSETTO:+0200
TZNAME:CEST
DTSTART:20240331T010000
END:DAYLIGHT
BEGIN:STANDARD
TZOFFSETFROM:+0200
TZOFFSETTO:+0100
TZNAME:CET
DTSTART:20241027T010000
END:STANDARD
BEGIN:DAYLIGHT
TZOFFSETFROM:+0100
TZOFFSETTO:+0200
TZNAME:CEST
DTSTART:20250330T010000
END:DAYLIGHT
BEGIN:STANDARD
TZOFFSETFROM:+0200
TZOFFSETTO:+0100
TZNAME:CET
DTSTART:20251026T010000
END:STANDARD
BEGIN:DAYLIGHT
TZOFFSETFROM:+0100
TZOFFSETTO:+0200
TZNAME:CEST
DTSTART:20260329T010000
END:DAYLIGHT
BEGIN:STANDARD
TZOFFSETFROM:+0200
TZOFFSETTO:+0100
TZNAME:CET
DTSTART:20261025T010000
END:STANDARD
BEGIN:DAYLIGHT
TZOFFSETFROM:+0100
TZOFFSETTO:+0200
TZNAME:CEST
DTSTART:20270328T010000
END:DAYLIGHT
BEGIN:STANDARD
TZOFFSETFROM:+0200
TZOFFSETTO:+0100
TZNAME:CET
DTSTART:20271031T010000
END:STANDARD
END:VTIMEZONE
BEGIN:VTIMEZONE
TZID:Europe/Paris
BEGIN:DAYLIGHT
TZOFFSETFROM:+0100
TZOFFSETTO:+0200
TZNAME:CEST
DTSTART:20240331T010000
END:DAYLIGHT
BEGIN:STANDARD
TZOFFSETFROM:+0200
TZOFFSETTO:+0100
TZNAME:CET
DTSTART:20241027T010000
END:STANDARD
BEGIN:DAYLIGHT
TZOFFSETFROM:+0100
TZOFFSETTO:+0200
TZNAME:CEST
DTSTART:20250330T010000
END:DAYLIGHT
BEGIN:STANDARD
TZOFFSETFROM:+0200
TZOFFSETTO:+0100
TZNAME:CET
DTSTART:20251026T010000
END:STANDARD
BEGIN:DAYLIGHT
TZOFFSETFROM:+0100
TZOFFSETTO:+0200
TZNAME:CEST
DTSTART:20260329T010000
END:DAYLIGHT
BEGIN:STANDARD
TZOFFSETFROM:+0200
TZOFFSETTO:+0100
TZNAME:CET
DTSTART:20261025T010000
END:STANDARD
END:VTIMEZONE
BEGIN:VTIMEZONE
TZID:Europe/Paris
BEGIN:DAYLIGHT
TZOFFSETFROM:+0100
TZOFFSETTO:+0200
TZNAME:CEST
DTSTART:20240331T010000
END:DAYLIGHT
BEGIN:STANDARD
TZOFFSETFROM:+0200
TZOFFSETTO:+0100
TZNAME:CET
DTSTART:20241027T010000
END:STANDARD
BEGIN:DAYLIGHT
TZOFFSETFROM:+0100
TZOFFSETTO:+0200
TZNAME:CEST
DTSTART:20250330T010000
END:DAYLIGHT
BEGIN:STANDARD
TZOFFSETFROM:+0200
TZOFFSETTO:+0100
TZNAME:CET
DTSTART:20251026T010000
END:STANDARD
BEGIN:DAYLIGHT
TZOFFSETFROM:+0100
TZOFFSETTO:+0200
TZNAME:CEST
DTSTART:20260329T010000
END:DAYLIGHT
BEGIN:STANDARD
TZOFFSETFROM:+0200
TZOFFSETTO:+0100
TZNAME:CET
DTSTART:20261025T010000
END:STANDARD
END:VTIMEZONE
BEGIN:VTIMEZONE
TZID:UTC
BEGIN:STANDARD
TZOFFSETFROM:+0000
TZOFFSETTO:+0000
TZNAME:UTC
DTSTART:20240101T000000
END:STANDARD
END:VTIMEZONE
BEGIN:VEVENT
DTSTART;TZID=Europe/Brussels:20260525T090000
DTEND;TZID=Europe/Brussels:20260525T163000
DTSTAMP:20260420T162005
CREATED:20260401T082440Z
LAST-MODIFIED:20260401T082440Z
UID:752-1779699600-1779726600@volle-evangelie-mortsel.be
SUMMARY:Pinksterconferentie
DESCRIPTION:  \nGeorganiseerd door de samenwerking van VVP en aDfB \n(Vlaamse en Waalse Pinkster denominaties samen)
URL:https://volle-evangelie-mortsel.be/event/pinksterconferentie/
LOCATION:LouvExpo\, Louvexpo\, La Louvière\, Belgium
END:VEVENT
BEGIN:VEVENT
DTSTART;TZID=Europe/Brussels:20260501T090000
DTEND;TZID=Europe/Brussels:20260501T200000
DTSTAMP:20260420T162005
CREATED:20260401T075817Z
LAST-MODIFIED:20260402T084416Z
UID:744-1777626000-1777665600@volle-evangelie-mortsel.be
SUMMARY:Bijbeldag 1mei
DESCRIPTION:  \n\n\n\n\n\nProgramma\n9:00 Deuren open \nJe kan diverse standjes bezoeken en kennismaken met de andere aanwezige mensen\, het is al mogelijk een drankje te verkrijgen bij de bar. \n\n10:00 Ochtendsamenkomst (GRATIS) \nAanbiddingsdienst door The Revolution Limburg met boodschap van Marc Van Den Bogaerde\nDe kleuteropvang (2\,5 tot 5 jaar)\nHet kinderprogramma (6 tot 11 jaar)\nHet Tienerprogramma (12 tot 16 jaar) \n\n12:00 Lunchbreak \nEten en drank te koop aan democratische prijzen in de cafetaria\, perfect moment om bij te praten met je vrienden of voor een bezoek aan onze stands. \n\n14:00 Namiddagsamenkomst (GRATIS) \nAanbiddingsdienst door The Revolution Limburg met boodschap van Mattias Demaerel\nDe kleuteropvang (2\,5 tot 5 jaar)\nHet kinderprogramma (6 tot 11 jaar)\nHet tienerprogramma (12-16 jaar) \n\n16:00 Einde Namiddagsamenkomst en kinder/tienerprogramma. \nDe namiddagdienst is gedaan. Bezoek de stands\, de uitgebreide boekentafel of bestel iets aan de bar en blijf nog gezellig kletsen met vrienden. \n\n16u00 – 18U00: FRIETKRAAM OP HET BINNENPLEIN \nHongertje gekregen ? Geen probleem\, geniet van een lekkere snack aan het Frietkraam op het binnenplein. \n\n18u00: start BIJBELDAG x EJV PRAISE-AVOND door LIFELINE COLLECTIVE (GRATIS) \n\n\n\n\n\n 
URL:https://volle-evangelie-mortsel.be/event/bijbeldag-1mei/
LOCATION:Den Boomgaard\, Antwerpsesteenweg 43\, Ranst\, 2520\, Belgium
END:VEVENT
BEGIN:VEVENT
DTSTART;TZID=Europe/Brussels:20260404T133000
DTEND;TZID=Europe/Brussels:20260404T170000
DTSTAMP:20260420T162005
CREATED:20260401T074431Z
LAST-MODIFIED:20260402T074204Z
UID:739-1775309400-1775322000@volle-evangelie-mortsel.be
SUMMARY:Mortsel for Jezus
DESCRIPTION:Evangelisatie actie op marktplein in Mortsel\, georganiseerd door “Go Rivival Europe”
URL:https://volle-evangelie-mortsel.be/event/mortsel-for-jezus/
LOCATION:Marktplein Mortsel\, Marktplein\, Mortsel\, 2640\, Belgium
END:VEVENT
BEGIN:VEVENT
DTSTART;TZID=Europe/Brussels:20251221T100000
DTEND;TZID=Europe/Brussels:20251221T133000
DTSTAMP:20260420T162005
CREATED:20251113T102936Z
LAST-MODIFIED:20251113T103216Z
UID:704-1766311200-1766323800@volle-evangelie-mortsel.be
SUMMARY:Kerstfeest
DESCRIPTION:We vieren als gemeente samen kerst op de zondag voor kerstmis.\nEen mooie thema dienst\, met aansluitend gezamenlijke maaltijd.
URL:https://volle-evangelie-mortsel.be/event/kerstfeest/
LOCATION:VEG\, Eggestraat 27\, Mortsel\, Antwerpen\, 2640\, Belgium
ORGANIZER;CN="VEG Mortsel":MAILTO:info@volle-evangelie-mortsel.be
END:VEVENT
BEGIN:VEVENT
DTSTART;TZID=Europe/Brussels:20251111T100000
DTEND;TZID=Europe/Brussels:20251111T170000
DTSTAMP:20260420T162005
CREATED:20250910T123031Z
LAST-MODIFIED:20250910T123031Z
UID:684-1762855200-1762880400@volle-evangelie-mortsel.be
SUMMARY:11 november - VVP Ontmoetingsdag
DESCRIPTION:Promoclipje 2025\nAlle Generaties\nEén Roeping\nEen groeiende kerk \nSpreker: Björn Lütke
URL:https://volle-evangelie-mortsel.be/event/11-november-vvp-ontmoetingsdag/
LOCATION:Brabanthal Leuven\, Brabantlaan 1\, Leuven\, 3001
END:VEVENT
BEGIN:VEVENT
DTSTART;VALUE=DATE:20250927
DTEND;VALUE=DATE:20250928
DTSTAMP:20260420T162005
CREATED:20250509T075715Z
LAST-MODIFIED:20250509T075715Z
UID:649-1758931200-1759017599@volle-evangelie-mortsel.be
SUMMARY:Festival of Hope
DESCRIPTION:Zoals je wellicht al hebt gehoord\, komt het Festival of Hope met Franklin Graham in september 2025 naar Brussel. We zijn dankbaar en enthousiast om te zien hoe God nu al aan het werk is. Kerken in heel België brengen hun harten en gebeden samen om de verlorenen de levende hoop te laten ontdekken — de hoop die alleen het evangelie van Jezus Christus biedt. Het evenement bestaat uit een boodschap van evangelist Franklin Graham en een gratis concert met christelijke topartiesten.
URL:https://volle-evangelie-mortsel.be/event/festival-of-hope/
LOCATION:ING Arena\, Paleis 12 Heizel\, Brussel\, Belgium
ORGANIZER;CN="BGEA - Billy Graham Evangelistic Association":MAILTO:Office@festivalofhope.be
END:VEVENT
BEGIN:VEVENT
DTSTART;TZID=Europe/Brussels:20250628T140000
DTEND;TZID=Europe/Brussels:20250628T170000
DTSTAMP:20260420T162005
CREATED:20250509T074641Z
LAST-MODIFIED:20250509T074641Z
UID:644-1751119200-1751130000@volle-evangelie-mortsel.be
SUMMARY:Cursus Christelijk Leven & Getuigen
DESCRIPTION:Kom en verdiep je geloof in Jezus Christus en ontdek praktische manieren om anderen naar Hem te leiden tijdens deze gratis en inspirerende sessie van drie uur. \nDeze gratis cursus wordt gegeven vanuit de BillyGraham Evangelistic Association; de organisatie die achter het Festival of Hope zit dat op  27 september 2025 zal doorgaan in de ING Arena (Paleis 12) in Brussel
URL:https://volle-evangelie-mortsel.be/event/cursus-christelijk-leven-getuigen/
LOCATION:VEG\, Eggestraat 27\, Mortsel\, Antwerpen\, 2640\, Belgium
ORGANIZER;CN="BGEA - Billy Graham Evangelistic Association":MAILTO:Office@festivalofhope.be
END:VEVENT
BEGIN:VEVENT
DTSTART;TZID=Europe/Paris:20250620T203000
DTEND;TZID=Europe/Paris:20250621T020000
DTSTAMP:20260420T162005
CREATED:20250610T171853Z
LAST-MODIFIED:20250610T172801Z
UID:662-1750451400-1750471200@volle-evangelie-mortsel.be
SUMMARY:Nacht van Gebed - Open Doors
DESCRIPTION:Strijd mee met je vervolgde broers en zussen tijdens de Nacht van Gebed van vrijdag 20 op zaterdag 21 juni!  \nOveral in Vlaanderen en Nederland komen mensen samen om te bidden voor vervolgde christenen in landen als Noord-Korea\, Afghanistan\, Bangladesh\, Kameroen en Mexico. \nVan vrijdag 20 juni op zaterdag 21 juni is de Nacht van Gebed. Doe jij ook mee?\nJe bent welkom van 20.30 uur tot en met 02.00 uur.\nJe kunt de hele avond/nacht mee bidden\, maar bent ook van harte welkom om gedurende de avond/nacht ergens een uurtje mee te bidden.
URL:https://volle-evangelie-mortsel.be/event/nacht-van-gebod-open-doors/
LOCATION:GODcenter\, Grotesteenweg 571\, Berchem\, 2600\, Belgium
ATTACH;FMTTYPE=image/jpeg:https://volle-evangelie-mortsel.be/wp-content/uploads/2025/06/NachtVanGebed2025.jpg
END:VEVENT
BEGIN:VEVENT
DTSTART;TZID=Europe/Brussels:20250525T113000
DTEND;TZID=Europe/Brussels:20250525T140000
DTSTAMP:20260420T162005
CREATED:20250419T172303Z
LAST-MODIFIED:20250419T172326Z
UID:638-1748172600-1748181600@volle-evangelie-mortsel.be
SUMMARY:Bijzondere AV VZW
DESCRIPTION:Gemeente vegadering en goedkeuring vernieuwde statuten. \nAansluitend op de dienst
URL:https://volle-evangelie-mortsel.be/event/bijzondere-av-vzw/
LOCATION:VEG\, Eggestraat 27\, Mortsel\, Antwerpen\, 2640\, Belgium
END:VEVENT
BEGIN:VEVENT
DTSTART;TZID=Europe/Paris:20250518T120000
DTEND;TZID=Europe/Paris:20250518T140000
DTSTAMP:20260420T162005
CREATED:20250417T160107Z
LAST-MODIFIED:20250419T064906Z
UID:535-1747569600-1747576800@volle-evangelie-mortsel.be
SUMMARY:Spaghetti voor VVP Zending
DESCRIPTION:In het kader van de VVP MMM Actie willen we graag een extra duwtje geven aan de zending. \nNa de samenkomst kan je genieten van een heerlijke spaghetti.\nMeenemen kan ook. \nVolwassen portie = € 15.00\nKinder portie = € 12.00 \nDe opbrengst gaat naar de VVP MMM Actie.\nDe totale inkomsten van de MMM actie wordt gelijk verdeeld over alle VVP zendelingen. \nDit zijn o.a. de mensen die vanuit onze gemeente uitgegaan zijn: \n\nRuth & Robert Kinderman – Hennebert\nLiesje & Roland Vinkestijn – Stalmans\nSigrid Bergers\n\nDoor in te schrijven\, zorg je dat we een goede inschatting van de hoeveelheid kunnen maken. \nInschrijving Spaghetti voor VVP zending 18 meiSchakel JavaScript in je browser in om dit formulier in te vullen.Schakel JavaScript in je browser in om dit formulier in te vullen.Naam *VoornaamAchternaam		\n			plaatse 15.00 Naam\n			\n		\n		EmailTer plaatse eten *JaNeen\, meenemenHoeveel volwassene porties (€ 15.00 /pp) *1 persoon2 personen3 personen4 personen5 personenHoeveel kinder (<12 jaar) porties ( € 12.00 /pp)Geen kinderporties1 kind2 kinderen3 kinderen4 kinderen5 kinderenOpmerkingen / sugestiesVerzenden
URL:https://volle-evangelie-mortsel.be/event/spaghetti-voor-vvp-zending/
LOCATION:VEG\, Eggestraat 27\, Mortsel\, Antwerpen\, 2640\, Belgium
ORGANIZER;CN="VEG Mortsel":MAILTO:info@volle-evangelie-mortsel.be
END:VEVENT
BEGIN:VEVENT
DTSTART;TZID=UTC:20250501T100000
DTEND;TZID=UTC:20250501T200000
DTSTAMP:20260420T162005
CREATED:20250419T072551Z
LAST-MODIFIED:20250419T073422Z
UID:567-1746093600-1746129600@volle-evangelie-mortsel.be
SUMMARY:Bijbeldag
DESCRIPTION:Zoals elk jaar zetten we op 1 mei de Bijbel centraal op een fijne\, toegankelijke manier.\nDit jaar hebben we afspraak op een nieuwe locatie: GC Den Boomgaard in Ranst. \nFrank Ernst en Ilja Visee nemen ons mee naar Gods Heiligheid. \n‘s avonds is er een EJV Praiseavond met Lifeline collective. \n \nAlle info in de Bijbeldag 2025 – flyer
URL:https://volle-evangelie-mortsel.be/event/bijbeldag/
LOCATION:Den Boomgaard\, Antwerpsesteenweg 43\, Ranst\, 2520\, Belgium
END:VEVENT
END:VCALENDAR